BEGIN:VCALENDAR
VERSION:2.0
PRODID:-//Sones de Mexico Ensemble - ECPv6.15.20//NONSGML v1.0//EN
CALSCALE:GREGORIAN
METHOD:PUBLISH
X-ORIGINAL-URL:https://sonesdemexico.com
X-WR-CALDESC:Events for Sones de Mexico Ensemble
REFRESH-INTERVAL;VALUE=DURATION:PT1H
X-Robots-Tag:noindex
X-PUBLISHED-TTL:PT1H
BEGIN:VTIMEZONE
TZID:America/Chicago
BEGIN:DAYLIGHT
TZOFFSETFROM:-0600
TZOFFSETTO:-0500
TZNAME:CDT
DTSTART:20160313T080000
END:DAYLIGHT
BEGIN:STANDARD
TZOFFSETFROM:-0500
TZOFFSETTO:-0600
TZNAME:CST
DTSTART:20161106T070000
END:STANDARD
BEGIN:DAYLIGHT
TZOFFSETFROM:-0600
TZOFFSETTO:-0500
TZNAME:CDT
DTSTART:20170312T080000
END:DAYLIGHT
BEGIN:STANDARD
TZOFFSETFROM:-0500
TZOFFSETTO:-0600
TZNAME:CST
DTSTART:20171105T070000
END:STANDARD
BEGIN:DAYLIGHT
TZOFFSETFROM:-0600
TZOFFSETTO:-0500
TZNAME:CDT
DTSTART:20180311T080000
END:DAYLIGHT
BEGIN:STANDARD
TZOFFSETFROM:-0500
TZOFFSETTO:-0600
TZNAME:CST
DTSTART:20181104T070000
END:STANDARD
BEGIN:DAYLIGHT
TZOFFSETFROM:-0600
TZOFFSETTO:-0500
TZNAME:CDT
DTSTART:20190310T080000
END:DAYLIGHT
BEGIN:STANDARD
TZOFFSETFROM:-0500
TZOFFSETTO:-0600
TZNAME:CST
DTSTART:20191103T070000
END:STANDARD
BEGIN:DAYLIGHT
TZOFFSETFROM:-0600
TZOFFSETTO:-0500
TZNAME:CDT
DTSTART:20200308T080000
END:DAYLIGHT
BEGIN:STANDARD
TZOFFSETFROM:-0500
TZOFFSETTO:-0600
TZNAME:CST
DTSTART:20201101T070000
END:STANDARD
END:VTIMEZONE
BEGIN:VEVENT
DTSTART;TZID=America/Chicago:20191114T180000
DTEND;TZID=America/Chicago:20191114T210000
DTSTAMP:20260419T094331
CREATED:20190803T195206Z
LAST-MODIFIED:20190803T195248Z
UID:5819-1573754400-1573765200@sonesdemexico.com
SUMMARY:Sones de México Ensemble's 25th Anniversary Gala
DESCRIPTION:SAVE THE DATE! \nThe Board of Directors of Sones de México Ensemble invite you to join us in Chicago’s historic Pilsen neighborhood to celebrate the 25th Anniversary of the founding of the band that became the leading Mexican Folk Music organization in the nation. \nEnjoy a gourmet Mexican meal\, cocktails\, good conversation\, networking and the honoring of this year’s “Keeper of Culture” award recipient. And\, of course\, MUSIC by Sones de México Ensemble! \nMore details coming soon. Stay tuned!
URL:https://sonesdemexico.com/event/sones-de-mexico-ensembles-25th-anniversary-gala/
LOCATION:National Museum of Mexican Art\, 1852 W. 19th Street\, Chicago\, IL\, 60608\, United States
CATEGORIES:Award Ceremony,Benefit,Gala,Mexican Music,Performance,Traditional Mexican Music
ATTACH;FMTTYPE=image/jpeg:https://sonesdemexico.com/wp-content/uploads/2019/08/67474302_10156627241877914_2801434260387397632_o.jpg
END:VEVENT
BEGIN:VEVENT
DTSTART;TZID=America/Chicago:20180318T173000
DTEND;TZID=America/Chicago:20180318T173000
DTSTAMP:20260419T094331
CREATED:20180313T180748Z
LAST-MODIFIED:20180313T183755Z
UID:4608-1521394200-1521394200@sonesdemexico.com
SUMMARY:2018 Chicago Music Awards
DESCRIPTION:Come cheer on Sones de México Ensemble as we compete for the fourth year in a row to be Chicago’s Best Latin Entertainer! We won the last three years. Come see if we can win again! \nCelebrate Chicago’s Biggest Music Night & Dance Party at the\n37th Annual Chicago Music Awards (CMA) \nSunday\, March 18th\, 2018 at the Logan Center for the Performing Arts in Hyde Park\, Chicago. \nVIP Red Carpet Arrival/Reception 5:30pm and Awards Showtime at 7:00pm \nHonoring & Featuring Chicago’s best in:\nPop – Blues – Reggae – Classical- Rock – R&B – Jazz- Gospel-African – Hip Hop – Asian – Kids- Rap- Latin – Polish – Steppin – Spoken Word and more.\n​\nSeats are limited! Tickets at www.chicagomusicawards.org or call (877) 973-4423.
URL:https://sonesdemexico.com/event/2018-chicago-music-awards/
LOCATION:Reva and David Logan Center for the Arts\, 950 E 60th St\, Chicago\, Illinois\, 60637
CATEGORIES:Award Ceremony
ATTACH;FMTTYPE=image/jpeg:https://sonesdemexico.com/wp-content/uploads/2016/12/SDM_CMA_2017-ThreePeat.jpg
END:VEVENT
BEGIN:VEVENT
DTSTART;TZID=America/Chicago:20171209T180000
DTEND;TZID=America/Chicago:20171209T220000
DTSTAMP:20260419T094331
CREATED:20171103T160914Z
LAST-MODIFIED:20171103T171315Z
UID:4391-1512842400-1512856800@sonesdemexico.com
SUMMARY:¡Que Florezca! Sones de México's 2017 Gala Dinner
DESCRIPTION:Sones de México Ensemble\, the nation’s premiere Mexican folk music organization specializing in the preservation and promotion of regional Mexican “son”\, will celebrate their growth from an informal group of neighborhood musicians to a multi-faceted educational and performing arts organization on December 9 at 6pm at the National Museum of Mexican Art\, 1852 W. 19th Street\, Chicago. The gala event\, titled ¡Que Florezca! (Let it Bloom) after their first album\, will take as its theme the creative blossoming of the organization as a champion of Mexican folk music and culture. \nProceeds will help fund Sones de México Ensemble’s educational and performance programs. \nThe event will honor Henry Roa and his late wife Juanita Roa with the organization’s first ever “Keepers of Culture Award” and feature a specially created 5-course gourmet dinner prepared by renowned chef Dudley Nieto\, a silent auction and an intimate recital by Sones de México Ensemble drawn from their 1997 debut album ¡Que Florezca! (Let it Bloom). \nSilent auction items include a vintage guitarron built by famed luthier Roberto Morales\, a signed and numbered print by the great Mexican muralist David Alfaro Siqueiros\, and a 5-night stay at “Casa Simplemente María”\, a fabulous three bedroom vacation home in Puerto Vallarta\, Mexico. See all the items at sonesdemexico.com/auction  and participate in the advance online auction. \nIndividual tickets are $125. Discounts for groups. VIP packages and table pricing are available. Corporate sponsorships are welcome. Call (773) 728-1164 for details. \nFor complete information go to sonesdemexico.com/gala.
URL:https://sonesdemexico.com/event/que-florezca-sones-de-mexicos-2017-gala-dinner/
LOCATION:National Museum of Mexican Art\, 1852 W. 19th Street\, Chicago\, IL\, 60608\, United States
CATEGORIES:Award Ceremony,Benefit,Concerts,Mexican Music
ATTACH;FMTTYPE=image/jpeg:https://sonesdemexico.com/wp-content/uploads/2017/11/Gala-Dinner-2015.jpg
END:VEVENT
BEGIN:VEVENT
DTSTART;TZID=America/Chicago:20170318T180000
DTEND;TZID=America/Chicago:20170318T220000
DTSTAMP:20260419T094331
CREATED:20170210T210141Z
LAST-MODIFIED:20170216T205851Z
UID:3270-1489860000-1489874400@sonesdemexico.com
SUMMARY:Chicago Music Awards
DESCRIPTION:Come cheer on Sones de México Ensemble as we compete for the third year in a row to be Chicago’s Best Latin Entertainer! We won the last two years\, and with your help we can win again! \nVOTE FOR US HERE! (CATEGORY 21\, BEST LATIN ENTERTAINER): http://survey.sogosurvey.com/survey.aspx?k=RQsXQUPRsUsPsPsP \nCelebrate Chicago’s Biggest Music Night & Dance Party at the\n36th Annual Chicago Music Awards (CMA) \nSaturday\, March 18th\, 2017 at the STEPHEN M. BAILEY AUDITORIUM\,1340 W. Washington Blvd\, Chicago\, IL 60607 \nVIP Red Carpet Arrival/Reception 6:00pm and Awards Showtime at 8:00pm \nHonoring & Featuring Chicago’s best in:\nPop – Blues – Reggae – Classical- Rock – R&B – Jazz- Gospel-African – Hip Hop – Asian – Kids- Rap- Latin – Polish – Steppin – Spoken Word and more.\n​\nTickets are: General $36 or $50 at the door and VIP $55 or $75 at Door. Seats are limited! Tickets at www.chicagomusicawards.org or call (877) 973-4423.
URL:https://sonesdemexico.com/event/chicago-music-awards/
LOCATION:Steven M. Baily Auditorium\, 1340 W Washington Blvd\, Chicago\, IL\, 60607\, United States
CATEGORIES:Award Ceremony,Concerts,Mexican Music
ATTACH;FMTTYPE=image/jpeg:https://sonesdemexico.com/wp-content/uploads/2017/02/16602728_10154367237137914_2544129348128724112_n.jpg
END:VEVENT
END:VCALENDAR